BEGIN:VCALENDAR
VERSION:2.0
PRODID:icalendar-ruby
CALSCALE:GREGORIAN
METHOD:PUBLISH
BEGIN:VEVENT
DTSTAMP:20260424T021221Z
UID:81-2843949@vivechurch.com
DTSTART:20261028T223000Z
DTEND:20261029T000000Z
CLASS:PUBLIC
CREATED:20260423T212126
DESCRIPTION:An 8-Week Wednesday Night Series with Pastor Terry Roberts\nWha
 t if the Holy Spirit wants to do more through your life than you’ve ever
  imagined?\nJoin us for an exciting 8-week journey as Pastor Terry Roberts
  leads us into a deeper understanding of the Holy Spirit and the gifts of 
 the Spirit—not as something strange or reserved for a few “super spiri
 tual” people\, but as grace gifts available to every believer for the gl
 ory of Jesus and the building up of His Church.\nEach Wednesday night\, Pa
 stor Terry will teach for approximately 45 minutes\, followed by small gro
 up discussions where we’ll process what we’re learning\, ask honest qu
 estions\, and discover how to walk it out in real life.\nThis is more than
  a Bible study.  This is an invitation to grow in: Spiritual sensitivity\
 , Boldness in faith\, Hearing the voice of God\, Biblical understanding of
  the gifts of the Spirit and Practical obedience in everyday life.\nWhethe
 r you’re brand new to this topic\, curious\, cautious\, or hungry for mo
 re\, this series is designed to help you grow in a way that is biblical\, 
 practical\, and Spirit-led.\nCome expectant. Come hungry. Come ready to be
  stretched.\nThe Holy Spirit still moves. The gifts are still for today. 
  And there is more available to you than you may realize.\nSign up today! 
  Don’t just learn about the Holy Spirit—come discover what it looks l
 ike to live empowered by Him!
LAST-MODIFIED:20260423T212126
LOCATION:VIVE Church
SUMMARY:The Spirit and the Gifts
URL;VALUE=URI:https://vivechurch.com/events/the-spirit-and-the-gifts/2026-1
 0-28
ATTACH;FILENAME=The Holy Spirit.jpg;FMTTYPE=image/jpeg:https://dq5pwpg1q8ru
 0.cloudfront.net/2026/03/31/18/36/37/b0b553d2-af46-4e43-97c1-6929dbf577e0/
 The%20Holy%20Spirit.jpg
END:VEVENT
END:VCALENDAR
